BEGIN:VCALENDAR
VERSION:2.0
PRODID:-//PCI Auction Group//NONSGML Auction Calendar//EN
METHOD:PUBLISH
BEGIN:VEVENT
DTSTART:20260504T193000
DTEND:20260504T200000
LOCATION:https://www.pciauctions.com/auction/5435/chopping-block-butcher-sh
 op-deli-merchandiser-surplus-and-brand-new
TRANSP:OPAQUE
SEQUENCE:0
UID:UID20260423T015821-686419875-pciauctions.com
DTSTAMP:20260423T055821Z
SUMMARY:Chopping Block Butcher Shop & Deli\, Merchandiser Surplus and Brand
  New Scratch and Dent Restaurant Equipment
DESCRIPTION:Visit https://www.pciauctions.com/auction/5435/chopping-block-b
 utcher-shop-deli-merchandiser-surplus-and-brand-new to bid. Auction begins 
 closing at 8:00 EDT
PRIORITY:5
CLASS:PUBLIC
BEGIN:VALARM
TRIGGER:-PT30M
ACTION:DISPLAY
DESCRIPTION:Reminder
END:VALARM
END:VEVENT
END:VCALENDAR
