BEGIN:VCALENDAR
VERSION:2.0
PRODID:-//PCI Auction Group//NONSGML Auction Calendar//EN
METHOD:PUBLISH
BEGIN:VEVENT
DTSTART:20260506T200000
DTEND:20260506T203000
LOCATION:https://www.pciauctions.com/auction/5433/mebane-steakhouse-bbq-sea
 food-restaurant-equipent
TRANSP:OPAQUE
SEQUENCE:0
UID:UID20260422T000541-525162331-pciauctions.com
DTSTAMP:20260422T040541Z
SUMMARY:MEBANE STEAKHOUSE BBQ & SEAFOOD RESTAURANT EQUIPENT
DESCRIPTION:Visit https://www.pciauctions.com/auction/5433/mebane-steakhous
 e-bbq-seafood-restaurant-equipent to bid. Auction begins closing at 8:30 ED
 T
PRIORITY:5
CLASS:PUBLIC
BEGIN:VALARM
TRIGGER:-PT30M
ACTION:DISPLAY
DESCRIPTION:Reminder
END:VALARM
END:VEVENT
END:VCALENDAR
