BEGIN:VCALENDAR
VERSION:2.0
PRODID:-//PCI Auction Group//NONSGML Auction Calendar//EN
METHOD:PUBLISH
BEGIN:VEVENT
DTSTART:20260510T193000
DTEND:20260510T200000
LOCATION:https://www.pciauctions.com/auction/5430/fusion-cafe-restaurant-eq
 uipment-auction
TRANSP:OPAQUE
SEQUENCE:0
UID:UID20260420T143809-1802383916-pciauctions.com
DTSTAMP:20260420T183809Z
SUMMARY:Fusion Cafe Restaurant Equipment Auction
DESCRIPTION:Visit https://www.pciauctions.com/auction/5430/fusion-cafe-rest
 aurant-equipment-auction to bid. Auction begins closing at 8:00 EDT
PRIORITY:5
CLASS:PUBLIC
BEGIN:VALARM
TRIGGER:-PT30M
ACTION:DISPLAY
DESCRIPTION:Reminder
END:VALARM
END:VEVENT
END:VCALENDAR
