BEGIN:VCALENDAR
VERSION:2.0
PRODID:-//PCI Auction Group//NONSGML Auction Calendar//EN
METHOD:PUBLISH
BEGIN:VEVENT
DTSTART:20260504T193000
DTEND:20260504T200000
LOCATION:https://www.pciauctions.com/auction/5428/del-taco-restaurant-kitch
 en-equipment-auction
TRANSP:OPAQUE
SEQUENCE:0
UID:UID20260420T214041-1951436551-pciauctions.com
DTSTAMP:20260421T014041Z
SUMMARY:Del Taco Restaurant Kitchen Equipment Auction
DESCRIPTION:Visit https://www.pciauctions.com/auction/5428/del-taco-restaur
 ant-kitchen-equipment-auction to bid. Auction begins closing at 8:00 EDT
PRIORITY:5
CLASS:PUBLIC
BEGIN:VALARM
TRIGGER:-PT30M
ACTION:DISPLAY
DESCRIPTION:Reminder
END:VALARM
END:VEVENT
END:VCALENDAR
