BEGIN:VCALENDAR
VERSION:2.0
PRODID:-//PCI Auction Group//NONSGML Auction Calendar//EN
METHOD:PUBLISH
BEGIN:VEVENT
DTSTART:20260505T193000
DTEND:20260505T200000
LOCATION:https://www.pciauctions.com/auction/5419/smokin-ts-bbq
TRANSP:OPAQUE
SEQUENCE:0
UID:UID20260419T190009-272100072-pciauctions.com
DTSTAMP:20260419T230009Z
SUMMARY:SMOKIN T'S BBQ
DESCRIPTION:Visit https://www.pciauctions.com/auction/5419/smokin-ts-bbq to
  bid. Auction begins closing at 8:00 EDT
PRIORITY:5
CLASS:PUBLIC
BEGIN:VALARM
TRIGGER:-PT30M
ACTION:DISPLAY
DESCRIPTION:Reminder
END:VALARM
END:VEVENT
END:VCALENDAR
